Package: metaSeq Version: 1.40.0 Command: F:\biocbuild\bbs-3.17-bioc\R\bin\R.exe CMD INSTALL metaSeq StartedAt: 2023-10-15 15:49:28 -0400 (Sun, 15 Oct 2023) EndedAt: 2023-10-15 15:49:40 -0400 (Sun, 15 Oct 2023) EllapsedTime: 12.3 seconds RetCode: 0 Status: OK