Package: metabCombiner Version: 1.10.0 Command: chmod a+r metabCombiner -R && F:\biocbuild\bbs-3.17-bioc\R\bin\R.exe CMD build --keep-empty-dirs --no-resave-data metabCombiner StartedAt: 2023-10-15 20:15:55 -0400 (Sun, 15 Oct 2023) EndedAt: 2023-10-15 20:16:37 -0400 (Sun, 15 Oct 2023) EllapsedTime: 42.3 seconds RetCode: 0 Status: OK PackageFile: metabCombiner_1.10.0.tar.gz PackageFileSize: 2.483 MiB