Package: metabinR Version: 1.2.0 Command: /home/biocbuild/bbs-3.17-bioc/R/bin/R CMD check --install=check:metabinR.install-out.txt --library=/home/biocbuild/bbs-3.17-bioc/R/site-library --timings metabinR_1.2.0.tar.gz StartedAt: 2023-10-15 22:36:59 -0400 (Sun, 15 Oct 2023) EndedAt: 2023-10-15 22:38:36 -0400 (Sun, 15 Oct 2023) EllapsedTime: 96.2 seconds RetCode: 0 Status: OK CheckDir: metabinR.Rcheck Warnings: 0