Package: metabinR Version: 1.2.0 Command: /home/biocbuild/bbs-3.17-bioc/R/bin/R CMD INSTALL metabinR StartedAt: 2023-10-15 15:09:43 -0400 (Sun, 15 Oct 2023) EndedAt: 2023-10-15 15:10:02 -0400 (Sun, 15 Oct 2023) EllapsedTime: 18.2 seconds RetCode: 0 Status: OK