Package: metabomxtr Version: 1.34.0 Command: rm -rf metabomxtr.buildbin-libdir && mkdir metabomxtr.buildbin-libdir && /Users/biocbuild/BBS/utils/build-universal.sh metabomxtr_1.34.0.tar.gz /Library/Frameworks/R.framework/Resources/bin/R metabomxtr.buildbin-libdir StartedAt: 2023-10-16 09:41:34 -0400 (Mon, 16 Oct 2023) EndedAt: 2023-10-16 09:42:09 -0400 (Mon, 16 Oct 2023) EllapsedTime: 34.5 seconds RetCode: 0 Status: OK PackageFile: metabomxtr_1.34.0.tgz PackageFileSize: 648.1 KiB