Package: metabomxtr Version: 1.34.0 Command: /home/biocbuild/bbs-3.17-bioc/R/bin/R CMD check --install=check:metabomxtr.install-out.txt --library=/home/biocbuild/bbs-3.17-bioc/R/site-library --timings metabomxtr_1.34.0.tar.gz StartedAt: 2023-10-15 22:38:00 -0400 (Sun, 15 Oct 2023) EndedAt: 2023-10-15 22:39:54 -0400 (Sun, 15 Oct 2023) EllapsedTime: 113.8 seconds RetCode: 0 Status: OK CheckDir: metabomxtr.Rcheck Warnings: 0