git_url: https://git.bioconductor.org/packages/metagenomeSeq git_branch: RELEASE_3_17 git_last_commit: 5ecb4dd git_last_commit_date: 2023-04-25 10:26:39 -0400 (Tue, 25 Apr 2023) Package: metagenomeSeq Version: 1.42.0 Maintainer: Joseph N. Paulson MaintainerEmail: jpaulson at jimmy.harvard.edu