Package: metaseqR2 Version: 1.12.0 Command: /Library/Frameworks/R.framework/Resources/bin/R CMD check --install=check:metaseqR2.install-out.txt --library=/Library/Frameworks/R.framework/Resources/library --no-vignettes --timings metaseqR2_1.12.0.tar.gz StartedAt: 2023-10-16 03:40:25 -0400 (Mon, 16 Oct 2023) EndedAt: 2023-10-16 04:00:33 -0400 (Mon, 16 Oct 2023) EllapsedTime: 1207.3 seconds RetCode: 0 Status: OK CheckDir: metaseqR2.Rcheck Warnings: 0