Package: metaseqR2 Version: 1.12.0 Command: rm -rf metaseqR2.buildbin-libdir && mkdir metaseqR2.buildbin-libdir && F:\biocbuild\bbs-3.17-bioc\R\bin\R.exe CMD INSTALL --build --library=metaseqR2.buildbin-libdir metaseqR2_1.12.0.tar.gz StartedAt: 2023-10-16 09:03:40 -0400 (Mon, 16 Oct 2023) EndedAt: 2023-10-16 09:05:18 -0400 (Mon, 16 Oct 2023) EllapsedTime: 98.1 seconds RetCode: 0 Status: OK PackageFile: metaseqR2_1.12.0.zip PackageFileSize: 4.543 MiB