Package: methylCC Version: 1.14.0 Command: F:\biocbuild\bbs-3.17-bioc\R\bin\R.exe CMD INSTALL methylCC StartedAt: 2023-10-15 16:56:37 -0400 (Sun, 15 Oct 2023) EndedAt: 2023-10-15 16:57:38 -0400 (Sun, 15 Oct 2023) EllapsedTime: 61.0 seconds RetCode: 0 Status: OK