Package: methylPipe Version: 1.34.1 Command: rm -rf methylPipe.buildbin-libdir && mkdir methylPipe.buildbin-libdir && F:\biocbuild\bbs-3.17-bioc\R\bin\R.exe CMD INSTALL --build --library=methylPipe.buildbin-libdir methylPipe_1.34.1.tar.gz StartedAt: 2023-10-16 09:04:17 -0400 (Mon, 16 Oct 2023) EndedAt: 2023-10-16 09:05:23 -0400 (Mon, 16 Oct 2023) EllapsedTime: 66.5 seconds RetCode: 0 Status: OK PackageFile: methylPipe_1.34.1.zip PackageFileSize: 1.263 MiB