Package: methylPipe Version: 1.34.1 Command: chmod a+r methylPipe -R && F:\biocbuild\bbs-3.17-bioc\R\bin\R.exe CMD build --keep-empty-dirs --no-resave-data methylPipe StartedAt: 2023-10-15 20:22:35 -0400 (Sun, 15 Oct 2023) EndedAt: 2023-10-15 20:25:55 -0400 (Sun, 15 Oct 2023) EllapsedTime: 199.7 seconds RetCode: 0 Status: OK PackageFile: methylPipe_1.34.1.tar.gz PackageFileSize: 585.6 KiB