Package: methylscaper Version: 1.8.6 Command: rm -rf methylscaper.buildbin-libdir && mkdir methylscaper.buildbin-libdir && /Users/biocbuild/BBS/utils/build-universal.sh methylscaper_1.8.6.tar.gz /Library/Frameworks/R.framework/Resources/bin/R methylscaper.buildbin-libdir StartedAt: 2023-10-16 09:42:41 -0400 (Mon, 16 Oct 2023) EndedAt: 2023-10-16 09:44:13 -0400 (Mon, 16 Oct 2023) EllapsedTime: 92.3 seconds RetCode: 0 Status: OK PackageFile: methylscaper_1.8.6.tgz PackageFileSize: 3.175 MiB