Package: methylscaper Version: 1.8.6 Command: /home/biocbuild/bbs-3.17-bioc/R/bin/R CMD check --install=check:methylscaper.install-out.txt --library=/home/biocbuild/bbs-3.17-bioc/R/site-library --timings methylscaper_1.8.6.tar.gz StartedAt: 2023-10-15 22:44:42 -0400 (Sun, 15 Oct 2023) EndedAt: 2023-10-15 22:48:34 -0400 (Sun, 15 Oct 2023) EllapsedTime: 232.9 seconds RetCode: 0 Status: OK CheckDir: methylscaper.Rcheck Warnings: 0