Package: methylscaper Version: 1.8.6 Command: /home/biocbuild/bbs-3.17-bioc/R/bin/R CMD INSTALL methylscaper StartedAt: 2023-10-15 15:41:26 -0400 (Sun, 15 Oct 2023) EndedAt: 2023-10-15 15:41:51 -0400 (Sun, 15 Oct 2023) EllapsedTime: 25.3 seconds RetCode: 0 Status: OK