Package: methylumi Version: 2.46.0 Command: /home/biocbuild/bbs-3.17-bioc/R/bin/R CMD check --install=check:methylumi.install-out.txt --library=/home/biocbuild/bbs-3.17-bioc/R/site-library --timings methylumi_2.46.0.tar.gz StartedAt: 2023-10-15 22:45:14 -0400 (Sun, 15 Oct 2023) EndedAt: 2023-10-15 22:53:52 -0400 (Sun, 15 Oct 2023) EllapsedTime: 518.9 seconds RetCode: 0 Status: OK CheckDir: methylumi.Rcheck Warnings: 0