Package: methylumi Version: 2.46.0 Command: /home/biocbuild/bbs-3.17-bioc/R/bin/R CMD INSTALL methylumi StartedAt: 2023-10-15 15:45:23 -0400 (Sun, 15 Oct 2023) EndedAt: 2023-10-15 15:46:18 -0400 (Sun, 15 Oct 2023) EllapsedTime: 55.8 seconds RetCode: 0 Status: OK