Package: miRNAmeConverter Version: 1.28.0 Command: rm -rf miRNAmeConverter.buildbin-libdir && mkdir miRNAmeConverter.buildbin-libdir && /Users/biocbuild/BBS/utils/build-universal.sh miRNAmeConverter_1.28.0.tar.gz /Library/Frameworks/R.framework/Resources/bin/R miRNAmeConverter.buildbin-libdir StartedAt: 2023-10-16 09:44:35 -0400 (Mon, 16 Oct 2023) EndedAt: 2023-10-16 09:45:48 -0400 (Mon, 16 Oct 2023) EllapsedTime: 73.0 seconds RetCode: 0 Status: OK PackageFile: miRNAmeConverter_1.28.0.tgz PackageFileSize: 581.3 KiB