git_url: https://git.bioconductor.org/packages/miRNAtap git_branch: RELEASE_3_17 git_last_commit: dc869c0 git_last_commit_date: 2023-04-25 10:33:44 -0400 (Tue, 25 Apr 2023) Package: miRNAtap Version: 1.34.0 Maintainer: T. Ian Simpson MaintainerEmail: ian.simpson at ed.ac.uk