Package: miRSM Version: 1.18.0 Command: /Library/Frameworks/R.framework/Resources/bin/R CMD build --keep-empty-dirs --no-resave-data miRSM StartedAt: 2023-10-15 19:33:33 -0400 (Sun, 15 Oct 2023) EndedAt: 2023-10-15 19:36:32 -0400 (Sun, 15 Oct 2023) EllapsedTime: 178.6 seconds RetCode: 0 Status: OK PackageFile: miRSM_1.18.0.tar.gz PackageFileSize: 878.3 KiB