Package: miRSM Version: 1.18.0 Command: /home/biocbuild/bbs-3.17-bioc/R/bin/R CMD build --keep-empty-dirs --no-resave-data miRSM StartedAt: 2023-10-15 17:28:43 -0400 (Sun, 15 Oct 2023) EndedAt: 2023-10-15 17:30:12 -0400 (Sun, 15 Oct 2023) EllapsedTime: 89.2 seconds RetCode: 0 Status: OK PackageFile: miRSM_1.18.0.tar.gz PackageFileSize: 878.4 KiB