Package: miRSM Version: 1.18.0 Command: /home/biocbuild/bbs-3.17-bioc/R/bin/R CMD check --install=check:miRSM.install-out.txt --library=/home/biocbuild/bbs-3.17-bioc/R/site-library --timings miRSM_1.18.0.tar.gz StartedAt: 2023-10-15 22:53:53 -0400 (Sun, 15 Oct 2023) EndedAt: 2023-10-15 23:00:47 -0400 (Sun, 15 Oct 2023) EllapsedTime: 413.9 seconds RetCode: 0 Status: OK CheckDir: miRSM.Rcheck Warnings: 0