Package: miRSM Version: 1.18.0 Command: F:\biocbuild\bbs-3.17-bioc\R\bin\R.exe CMD INSTALL miRSM StartedAt: 2023-10-15 17:05:34 -0400 (Sun, 15 Oct 2023) EndedAt: 2023-10-15 17:06:50 -0400 (Sun, 15 Oct 2023) EllapsedTime: 75.9 seconds RetCode: 0 Status: OK