Package: monocle Version: 2.28.0 Command: F:\biocbuild\bbs-3.17-bioc\R\bin\R.exe CMD INSTALL monocle StartedAt: 2023-10-15 16:01:08 -0400 (Sun, 15 Oct 2023) EndedAt: 2023-10-15 16:01:52 -0400 (Sun, 15 Oct 2023) EllapsedTime: 44.1 seconds RetCode: 0 Status: OK