Package: motifStack Version: 1.44.1 Command: rm -rf motifStack.buildbin-libdir && mkdir motifStack.buildbin-libdir && /Users/biocbuild/BBS/utils/build-universal.sh motifStack_1.44.1.tar.gz /Library/Frameworks/R.framework/Resources/bin/R motifStack.buildbin-libdir StartedAt: 2023-10-16 09:46:09 -0400 (Mon, 16 Oct 2023) EndedAt: 2023-10-16 09:48:52 -0400 (Mon, 16 Oct 2023) EllapsedTime: 162.6 seconds RetCode: 0 Status: OK PackageFile: motifStack_1.44.1.tgz PackageFileSize: 2.799 MiB