Package: motifStack Version: 1.44.1 Command: /Library/Frameworks/R.framework/Resources/bin/R CMD build --keep-empty-dirs --no-resave-data motifStack StartedAt: 2023-10-15 19:38:36 -0400 (Sun, 15 Oct 2023) EndedAt: 2023-10-15 19:44:31 -0400 (Sun, 15 Oct 2023) EllapsedTime: 355.2 seconds RetCode: 0 Status: OK PackageFile: motifStack_1.44.1.tar.gz PackageFileSize: 1.911 MiB