Package: motifStack Version: 1.44.1 Command: /Library/Frameworks/R.framework/Resources/bin/R CMD INSTALL motifStack StartedAt: 2023-10-15 15:45:03 -0400 (Sun, 15 Oct 2023) EndedAt: 2023-10-15 15:47:31 -0400 (Sun, 15 Oct 2023) EllapsedTime: 148.2 seconds RetCode: 0 Status: OK