Package: multiClust Version: 1.30.0 Command: /home/biocbuild/bbs-3.17-bioc/R/bin/R CMD INSTALL multiClust StartedAt: 2023-10-15 15:36:04 -0400 (Sun, 15 Oct 2023) EndedAt: 2023-10-15 15:36:11 -0400 (Sun, 15 Oct 2023) EllapsedTime: 7.1 seconds RetCode: 0 Status: OK