Package: multicrispr Version: 1.10.1 Command: F:\biocbuild\bbs-3.17-bioc\R\bin\R.exe CMD INSTALL multicrispr StartedAt: 2023-10-15 16:34:44 -0400 (Sun, 15 Oct 2023) EndedAt: 2023-10-15 16:35:29 -0400 (Sun, 15 Oct 2023) EllapsedTime: 44.6 seconds RetCode: 0 Status: OK