Package: mzR Version: 2.34.1 Command: /Library/Frameworks/R.framework/Resources/bin/R CMD build --keep-empty-dirs --no-resave-data mzR StartedAt: 2023-10-15 19:50:09 -0400 (Sun, 15 Oct 2023) EndedAt: 2023-10-15 20:15:32 -0400 (Sun, 15 Oct 2023) EllapsedTime: 1523.7 seconds RetCode: 0 Status: OK PackageFile: mzR_2.34.1.tar.gz PackageFileSize: 7.32 MiB