Package: ncRNAtools Version: 1.10.0 Command: /Library/Frameworks/R.framework/Resources/bin/R CMD build --keep-empty-dirs --no-resave-data ncRNAtools StartedAt: 2023-10-15 19:51:39 -0400 (Sun, 15 Oct 2023) EndedAt: 2023-10-15 19:52:57 -0400 (Sun, 15 Oct 2023) EllapsedTime: 78.0 seconds RetCode: 0 Status: OK PackageFile: ncRNAtools_1.10.0.tar.gz PackageFileSize: 309.8 KiB