Package: ncRNAtools Version: 1.10.0 Command: rm -rf ncRNAtools.buildbin-libdir && mkdir ncRNAtools.buildbin-libdir && F:\biocbuild\bbs-3.17-bioc\R\bin\R.exe CMD INSTALL --build --library=ncRNAtools.buildbin-libdir ncRNAtools_1.10.0.tar.gz StartedAt: 2023-10-16 09:10:29 -0400 (Mon, 16 Oct 2023) EndedAt: 2023-10-16 09:10:45 -0400 (Mon, 16 Oct 2023) EllapsedTime: 15.1 seconds RetCode: 0 Status: OK PackageFile: ncRNAtools_1.10.0.zip PackageFileSize: 366 KiB