Package: netresponse Version: 1.60.0 Command: /Library/Frameworks/R.framework/Resources/bin/R CMD check --install=check:netresponse.install-out.txt --library=/Library/Frameworks/R.framework/Resources/library --no-vignettes --timings netresponse_1.60.0.tar.gz StartedAt: 2023-10-16 04:37:37 -0400 (Mon, 16 Oct 2023) EndedAt: 2023-10-16 04:40:48 -0400 (Mon, 16 Oct 2023) EllapsedTime: 190.6 seconds RetCode: 0 Status: OK CheckDir: netresponse.Rcheck Warnings: 0