Package: npGSEA Version: 1.36.0 Command: /home/biocbuild/bbs-3.17-bioc/R/bin/R CMD build --keep-empty-dirs --no-resave-data npGSEA StartedAt: 2023-10-15 17:41:57 -0400 (Sun, 15 Oct 2023) EndedAt: 2023-10-15 17:42:39 -0400 (Sun, 15 Oct 2023) EllapsedTime: 41.5 seconds RetCode: 0 Status: OK PackageFile: npGSEA_1.36.0.tar.gz PackageFileSize: 363.7 KiB