Package: oligo Version: 1.64.1 Command: /home/biocbuild/bbs-3.17-bioc/R/bin/R CMD INSTALL oligo StartedAt: 2023-10-15 15:16:20 -0400 (Sun, 15 Oct 2023) EndedAt: 2023-10-15 15:16:51 -0400 (Sun, 15 Oct 2023) EllapsedTime: 31.7 seconds RetCode: 0 Status: OK