Package: omicsPrint Version: 1.20.0 Command: rm -rf omicsPrint.buildbin-libdir && mkdir omicsPrint.buildbin-libdir && F:\biocbuild\bbs-3.17-bioc\R\bin\R.exe CMD INSTALL --build --library=omicsPrint.buildbin-libdir omicsPrint_1.20.0.tar.gz StartedAt: 2023-10-16 09:12:26 -0400 (Mon, 16 Oct 2023) EndedAt: 2023-10-16 09:12:56 -0400 (Mon, 16 Oct 2023) EllapsedTime: 30.0 seconds RetCode: 0 Status: OK PackageFile: omicsPrint_1.20.0.zip PackageFileSize: 7.648 MiB