Package: oposSOM Version: 2.18.0 Command: /home/biocbuild/bbs-3.17-bioc/R/bin/R CMD check --install=check:oposSOM.install-out.txt --library=/home/biocbuild/bbs-3.17-bioc/R/site-library --timings oposSOM_2.18.0.tar.gz StartedAt: 2023-10-15 23:28:25 -0400 (Sun, 15 Oct 2023) EndedAt: 2023-10-15 23:33:42 -0400 (Sun, 15 Oct 2023) EllapsedTime: 316.6 seconds RetCode: 0 Status: WARNINGS CheckDir: oposSOM.Rcheck Warnings: 2