Package: oposSOM Version: 2.18.0 Command: F:\biocbuild\bbs-3.17-bioc\R\bin\R.exe CMD INSTALL oposSOM StartedAt: 2023-10-15 16:17:28 -0400 (Sun, 15 Oct 2023) EndedAt: 2023-10-15 16:18:33 -0400 (Sun, 15 Oct 2023) EllapsedTime: 65.5 seconds RetCode: 0 Status: OK