Package: orthogene Version: 1.6.1 Command: /Library/Frameworks/R.framework/Resources/bin/R CMD build --keep-empty-dirs --no-resave-data orthogene StartedAt: 2023-10-15 20:03:23 -0400 (Sun, 15 Oct 2023) EndedAt: 2023-10-15 20:04:26 -0400 (Sun, 15 Oct 2023) EllapsedTime: 63.3 seconds RetCode: 0 Status: OK PackageFile: orthogene_1.6.1.tar.gz PackageFileSize: 2.692 MiB