Package: pageRank Version: 1.10.0 Command: rm -rf pageRank.buildbin-libdir && mkdir pageRank.buildbin-libdir && F:\biocbuild\bbs-3.17-bioc\R\bin\R.exe CMD INSTALL --build --library=pageRank.buildbin-libdir pageRank_1.10.0.tar.gz StartedAt: 2023-10-16 09:13:55 -0400 (Mon, 16 Oct 2023) EndedAt: 2023-10-16 09:14:40 -0400 (Mon, 16 Oct 2023) EllapsedTime: 45.1 seconds RetCode: 0 Status: OK PackageFile: pageRank_1.10.0.zip PackageFileSize: 178.6 KiB