Package: panp Version: 1.70.0 Command: /home/biocbuild/bbs-3.17-bioc/R/bin/R CMD build --keep-empty-dirs --no-resave-data panp StartedAt: 2023-10-15 17:52:37 -0400 (Sun, 15 Oct 2023) EndedAt: 2023-10-15 17:53:27 -0400 (Sun, 15 Oct 2023) EllapsedTime: 50.4 seconds RetCode: 0 Status: OK PackageFile: panp_1.70.0.tar.gz PackageFileSize: 511.4 KiB