Package: panp Version: 1.70.0 Command: /home/biocbuild/bbs-3.17-bioc/R/bin/R CMD check --install=check:panp.install-out.txt --library=/home/biocbuild/bbs-3.17-bioc/R/site-library --timings panp_1.70.0.tar.gz StartedAt: 2023-10-15 23:40:30 -0400 (Sun, 15 Oct 2023) EndedAt: 2023-10-15 23:42:06 -0400 (Sun, 15 Oct 2023) EllapsedTime: 95.8 seconds RetCode: 0 Status: OK CheckDir: panp.Rcheck Warnings: 0