Package: panp Version: 1.70.0 Command: /home/biocbuild/bbs-3.17-bioc/R/bin/R CMD INSTALL panp StartedAt: 2023-10-15 15:09:06 -0400 (Sun, 15 Oct 2023) EndedAt: 2023-10-15 15:09:14 -0400 (Sun, 15 Oct 2023) EllapsedTime: 8.9 seconds RetCode: 0 Status: OK