Package: panp Version: 1.70.0 Command: chmod a+r panp -R && F:\biocbuild\bbs-3.17-bioc\R\bin\R.exe CMD build --keep-empty-dirs --no-resave-data panp StartedAt: 2023-10-15 21:13:48 -0400 (Sun, 15 Oct 2023) EndedAt: 2023-10-15 21:14:04 -0400 (Sun, 15 Oct 2023) EllapsedTime: 15.4 seconds RetCode: 0 Status: OK PackageFile: panp_1.70.0.tar.gz PackageFileSize: 512.8 KiB