Package: parglms Version: 1.32.0 Command: rm -rf parglms.buildbin-libdir && mkdir parglms.buildbin-libdir && /Users/biocbuild/BBS/utils/build-universal.sh parglms_1.32.0.tar.gz /Library/Frameworks/R.framework/Resources/bin/R parglms.buildbin-libdir StartedAt: 2023-10-16 09:53:53 -0400 (Mon, 16 Oct 2023) EndedAt: 2023-10-16 09:54:07 -0400 (Mon, 16 Oct 2023) EllapsedTime: 14.6 seconds RetCode: 0 Status: OK PackageFile: parglms_1.32.0.tgz PackageFileSize: 294.2 KiB