Package: parglms Version: 1.32.0 Command: chmod a+r parglms -R && F:\biocbuild\bbs-3.17-bioc\R\bin\R.exe CMD build --keep-empty-dirs --no-resave-data parglms StartedAt: 2023-10-15 21:14:10 -0400 (Sun, 15 Oct 2023) EndedAt: 2023-10-15 21:14:29 -0400 (Sun, 15 Oct 2023) EllapsedTime: 19.1 seconds RetCode: 0 Status: OK PackageFile: parglms_1.32.0.tar.gz PackageFileSize: 274.7 KiB