Package: pcaMethods Version: 1.92.0 Command: /Library/Frameworks/R.framework/Resources/bin/R CMD build --keep-empty-dirs --no-resave-data pcaMethods StartedAt: 2023-10-15 20:10:47 -0400 (Sun, 15 Oct 2023) EndedAt: 2023-10-15 20:17:19 -0400 (Sun, 15 Oct 2023) EllapsedTime: 391.8 seconds RetCode: 0 Status: OK PackageFile: pcaMethods_1.92.0.tar.gz PackageFileSize: 1017 KiB