Package: phemd Version: 1.16.0 Command: /home/biocbuild/bbs-3.17-bioc/R/bin/R CMD build --keep-empty-dirs --no-resave-data phemd StartedAt: 2023-10-15 17:56:57 -0400 (Sun, 15 Oct 2023) EndedAt: 2023-10-15 17:59:51 -0400 (Sun, 15 Oct 2023) EllapsedTime: 174.1 seconds RetCode: 0 Status: OK PackageFile: phemd_1.16.0.tar.gz PackageFileSize: 956.2 KiB