Package: phenoTest Version: 1.48.0 Command: /home/biocbuild/bbs-3.17-bioc/R/bin/R CMD build --keep-empty-dirs --no-resave-data phenoTest StartedAt: 2023-10-15 17:57:14 -0400 (Sun, 15 Oct 2023) EndedAt: 2023-10-15 17:58:26 -0400 (Sun, 15 Oct 2023) EllapsedTime: 71.7 seconds RetCode: 0 Status: OK PackageFile: phenoTest_1.48.0.tar.gz PackageFileSize: 1.096 MiB