Package: phenoTest Version: 1.48.0 Command: /home/biocbuild/bbs-3.17-bioc/R/bin/R CMD check --install=check:phenoTest.install-out.txt --library=/home/biocbuild/bbs-3.17-bioc/R/site-library --timings phenoTest_1.48.0.tar.gz StartedAt: 2023-10-15 23:51:49 -0400 (Sun, 15 Oct 2023) EndedAt: 2023-10-15 23:56:00 -0400 (Sun, 15 Oct 2023) EllapsedTime: 250.9 seconds RetCode: 0 Status: WARNINGS CheckDir: phenoTest.Rcheck Warnings: 1